BEGIN:VCALENDAR
VERSION:2.0
CALSCALE:GREGORIAN
METHOD:PUBLISH
PRODID:-//CSMusic.cz//Akce//EN
BEGIN:VEVENT
UID:akce_69b823771792b8.02724365
DTSTAMP:20260316T163623
DTSTART:20250321T000000
DTEND:20250321T000000
SUMMARY:Sofian Medjmedj - Praha
LOCATION:Forum Karlín, Praha
DESCRIPTION:Sofian Medjmedj - Praha - Forum Karlín, Praha
END:VEVENT
END:VCALENDAR