BEGIN:VCALENDAR
VERSION:2.0
CALSCALE:GREGORIAN
METHOD:PUBLISH
PRODID:-//CSMusic.cz//Akce//EN
BEGIN:VEVENT
UID:akce_69e13a8e285033.45144513
DTSTAMP:20260416T213750
DTSTART:20260620T000000
DTEND:20260620T000000
SUMMARY:Divokej Bill - Osm divokejch 2026 - Liberec
LOCATION:Zámecký park Vratislavice, Liberec
DESCRIPTION:Divokej Bill - Osm divokejch 2026 - Liberec - Zámecký park Vratislavice, Liberec
END:VEVENT
END:VCALENDAR