BEGIN:VCALENDAR
VERSION:2.0
CALSCALE:GREGORIAN
METHOD:PUBLISH
PRODID:-//CSMusic.cz//Akce//EN
BEGIN:VEVENT
UID:akce_69e1f2c51b3633.29824503
DTSTAMP:20260417T104349
DTSTART:20250315T000000
DTEND:20250315T000000
SUMMARY:Jamaron - Forever Tour 2025 - Kladno
LOCATION:Black Road Cafe, Kladno
DESCRIPTION:Jamaron - Forever Tour 2025 - Kladno - Black Road Cafe, Kladno
END:VEVENT
END:VCALENDAR