BEGIN:VCALENDAR
VERSION:2.0
CALSCALE:GREGORIAN
METHOD:PUBLISH
PRODID:-//CSMusic.cz//Akce//EN
BEGIN:VEVENT
UID:akce_69e1f321743176.93906770
DTSTAMP:20260417T104521
DTSTART:20190928T000000
DTEND:20190928T000000
SUMMARY:Svatováclavské velebení - Praha
LOCATION:Park  Na Jezerce, Praha
DESCRIPTION:Svatováclavské velebení - Praha - Park  Na Jezerce, Praha
END:VEVENT
END:VCALENDAR