BEGIN:VCALENDAR
VERSION:2.0
CALSCALE:GREGORIAN
METHOD:PUBLISH
PRODID:-//CSMusic.cz//Akce//EN
BEGIN:VEVENT
UID:akce_69e1fecbc2d086.67706633
DTSTAMP:20260417T113507
DTSTART:20200411T000000
DTEND:20200411T000000
SUMMARY:Thrashsurf + Beach Bum - Moravian Ballsgrinder Tour 2020 - Dačice
LOCATION:Street club, Dačice
DESCRIPTION:Thrashsurf + Beach Bum - Moravian Ballsgrinder Tour 2020 - Dačice - Street club, Dačice
END:VEVENT
END:VCALENDAR