BEGIN:VCALENDAR
VERSION:2.0
CALSCALE:GREGORIAN
METHOD:PUBLISH
PRODID:-//CSMusic.cz//Akce//EN
BEGIN:VEVENT
UID:akce_69e342edced481.02224257
DTSTAMP:20260418T103805
DTSTART:20260412T000000
DTEND:20260412T000000
SUMMARY:Robert Křesťan & Druhá Tráva - Brno
LOCATION:Sono centrum, Brno
DESCRIPTION:Robert Křesťan & Druhá Tráva - Brno - Sono centrum, Brno
END:VEVENT
END:VCALENDAR