BEGIN:VCALENDAR
VERSION:2.0
CALSCALE:GREGORIAN
METHOD:PUBLISH
PRODID:-//CSMusic.cz//Akce//EN
BEGIN:VEVENT
UID:akce_69e34402c01429.97875343
DTSTAMP:20260418T104242
DTSTART:20250516T000000
DTEND:20250516T000000
SUMMARY:Traktor - Jungle tour 2025 - Plzeň
LOCATION:, Plzeň
DESCRIPTION:Traktor - Jungle tour 2025 - Plzeň - , Plzeň
END:VEVENT
END:VCALENDAR