BEGIN:VCALENDAR
VERSION:2.0
CALSCALE:GREGORIAN
METHOD:PUBLISH
PRODID:-//CSMusic.cz//Akce//EN
BEGIN:VEVENT
UID:akce_69e48fbe4acdf2.70085545
DTSTAMP:20260419T101806
DTSTART:20200221T000000
DTEND:20200221T000000
SUMMARY:Lenka Dusilová - Pardubice
LOCATION:Divadlo 29, Pardubice
DESCRIPTION:Lenka Dusilová - Pardubice - Divadlo 29, Pardubice
END:VEVENT
END:VCALENDAR