BEGIN:VCALENDAR
VERSION:2.0
CALSCALE:GREGORIAN
METHOD:PUBLISH
PRODID:-//CSMusic.cz//Akce//EN
BEGIN:VEVENT
UID:akce_69e4d671ef9d66.57735584
DTSTAMP:20260419T151945
DTSTART:20191115T000000
DTEND:20191115T000000
SUMMARY:Mirai - TOUR 2019 - Herálec
LOCATION:KD, Herálec
DESCRIPTION:Mirai - TOUR 2019 - Herálec - KD, Herálec
END:VEVENT
END:VCALENDAR