BEGIN:VCALENDAR
VERSION:2.0
CALSCALE:GREGORIAN
METHOD:PUBLISH
PRODID:-//CSMusic.cz//Akce//EN
BEGIN:VEVENT
UID:akce_69e4eb1a262305.03463332
DTSTAMP:20260419T164754
DTSTART:20191121T000000
DTEND:20191121T000000
SUMMARY:Jananas - Brno
LOCATION:KC Semilasso, Brno
DESCRIPTION:Jananas - Brno - KC Semilasso, Brno
END:VEVENT
END:VCALENDAR