BEGIN:VCALENDAR
VERSION:2.0
CALSCALE:GREGORIAN
METHOD:PUBLISH
PRODID:-//CSMusic.cz//Akce//EN
BEGIN:VEVENT
UID:akce_69e52c61be7e08.29366834
DTSTAMP:20260419T212625
DTSTART:20200410T000000
DTEND:20200410T000000
SUMMARY:Wohnout - Máme na míň TOUR - Litvínov
LOCATION:Attic, Litvínov
DESCRIPTION:Wohnout - Máme na míň TOUR - Litvínov - Attic, Litvínov
END:VEVENT
END:VCALENDAR