BEGIN:VCALENDAR
VERSION:2.0
CALSCALE:GREGORIAN
METHOD:PUBLISH
PRODID:-//CSMusic.cz//Akce//EN
BEGIN:VEVENT
UID:akce_69e58860385126.10190442
DTSTAMP:20260420T035856
DTSTART:20191108T000000
DTEND:20191108T000000
SUMMARY:Houpací koně + Aran Epochal - Vernéřovice
LOCATION:Soulkostel, Vernéřovice
DESCRIPTION:Houpací koně + Aran Epochal - Vernéřovice - Soulkostel, Vernéřovice
END:VEVENT
END:VCALENDAR