BEGIN:VCALENDAR
VERSION:2.0
CALSCALE:GREGORIAN
METHOD:PUBLISH
PRODID:-//CSMusic.cz//Akce//EN
BEGIN:VEVENT
UID:akce_69e5ddc8cc7104.38547888
DTSTAMP:20260420T100320
DTSTART:20191027T000000
DTEND:20191027T000000
SUMMARY:Gaia Mesiah - Excellent Mistake Tour - Jablonec nad Nisou
LOCATION:Klub Na Rampě, Jablonec nad Nisou
DESCRIPTION:Gaia Mesiah - Excellent Mistake Tour - Jablonec nad Nisou - Klub Na Rampě, Jablonec nad Nisou
END:VEVENT
END:VCALENDAR