BEGIN:VCALENDAR
VERSION:2.0
CALSCALE:GREGORIAN
METHOD:PUBLISH
PRODID:-//CSMusic.cz//Akce//EN
BEGIN:VEVENT
UID:akce_69e629b98ed3a1.77461388
DTSTAMP:20260420T152721
DTSTART:20210722T000000
DTEND:20210725T000000
SUMMARY:Benátská! s Impulsem - Liberec
LOCATION:Rekreační a sportovní areál Vesec, Liberec
DESCRIPTION:Benátská! s Impulsem - Liberec - Rekreační a sportovní areál Vesec, Liberec
END:VEVENT
END:VCALENDAR