BEGIN:VCALENDAR
VERSION:2.0
CALSCALE:GREGORIAN
METHOD:PUBLISH
PRODID:-//CSMusic.cz//Akce//EN
BEGIN:VEVENT
UID:akce_69e666cbd468a2.22946134
DTSTAMP:20260420T194755
DTSTART:20200118T000000
DTEND:20200118T000000
SUMMARY:Debustrol - Velké Hamry
LOCATION:KD, Velké Hamry
DESCRIPTION:Debustrol - Velké Hamry - KD, Velké Hamry
END:VEVENT
END:VCALENDAR