BEGIN:VCALENDAR
VERSION:2.0
CALSCALE:GREGORIAN
METHOD:PUBLISH
PRODID:-//CSMusic.cz//Akce//EN
BEGIN:VEVENT
UID:akce_69e6865a1153c9.08254429
DTSTAMP:20260420T220234
DTSTART:20200326T000000
DTEND:20200326T000000
SUMMARY:Plexis - Brno
LOCATION:Melodka, Brno
DESCRIPTION:Plexis - Brno - Melodka, Brno
END:VEVENT
END:VCALENDAR