BEGIN:VCALENDAR
VERSION:2.0
CALSCALE:GREGORIAN
METHOD:PUBLISH
PRODID:-//CSMusic.cz//Akce//EN
BEGIN:VEVENT
UID:akce_69e6d32094a0c2.48844148
DTSTAMP:20260421T033008
DTSTART:20190613T000000
DTEND:20190613T000000
SUMMARY:Vláďa Šafránek Tribute - Praha
LOCATION:Žluté lázně, Praha
DESCRIPTION:Vláďa Šafránek Tribute - Praha - Žluté lázně, Praha
END:VEVENT
END:VCALENDAR