BEGIN:VCALENDAR
VERSION:2.0
CALSCALE:GREGORIAN
METHOD:PUBLISH
PRODID:-//CSMusic.cz//Akce//EN
BEGIN:VEVENT
UID:akce_69e71245a0a286.25024507
DTSTAMP:20260421T075933
DTSTART:20190803T000000
DTEND:20190803T000000
SUMMARY:Jako za mlada - Slatina
LOCATION:Slatina u Bílovce, Slatina
DESCRIPTION:Jako za mlada - Slatina - Slatina u Bílovce, Slatina
END:VEVENT
END:VCALENDAR