BEGIN:VCALENDAR
VERSION:2.0
CALSCALE:GREGORIAN
METHOD:PUBLISH
PRODID:-//CSMusic.cz//Akce//EN
BEGIN:VEVENT
UID:akce_69e73409b0ea36.38369271
DTSTAMP:20260421T102337
DTSTART:20190817T000000
DTEND:20190817T000000
SUMMARY:Žalman - Hradec Králové
LOCATION:Letní areál U Letců, Hradec Králové
DESCRIPTION:Žalman - Hradec Králové - Letní areál U Letců, Hradec Králové
END:VEVENT
END:VCALENDAR