BEGIN:VCALENDAR
VERSION:2.0
CALSCALE:GREGORIAN
METHOD:PUBLISH
PRODID:-//CSMusic.cz//Akce//EN
BEGIN:VEVENT
UID:akce_69e7374acd2969.17136401
DTSTAMP:20260421T103730
DTSTART:20200114T000000
DTEND:20200114T000000
SUMMARY:Karel Plíhal  - Beroun
LOCATION:Sál České Pojišťovny, Beroun
DESCRIPTION:Karel Plíhal  - Beroun - Sál České Pojišťovny, Beroun
END:VEVENT
END:VCALENDAR