BEGIN:VCALENDAR
VERSION:2.0
CALSCALE:GREGORIAN
METHOD:PUBLISH
PRODID:-//CSMusic.cz//Akce//EN
BEGIN:VEVENT
UID:akce_69e737a14c13b8.58935555
DTSTAMP:20260421T103857
DTSTART:20200418T000000
DTEND:20200418T000000
SUMMARY:ŠkWor - Uzavřenej kruh Tour II - Klatovy
LOCATION:Městské kulturní středisko, Klatovy
DESCRIPTION:ŠkWor - Uzavřenej kruh Tour II - Klatovy - Městské kulturní středisko, Klatovy
END:VEVENT
END:VCALENDAR