BEGIN:VCALENDAR
VERSION:2.0
CALSCALE:GREGORIAN
METHOD:PUBLISH
PRODID:-//CSMusic.cz//Akce//EN
BEGIN:VEVENT
UID:akce_69e737a14c1a99.90320563
DTSTAMP:20260421T103857
DTSTART:20260421T000000
DTEND:20260421T000000
SUMMARY:Mig 21 - Jaro 2026 - Praha
LOCATION:Lucerna Music Bar, Praha
DESCRIPTION:Mig 21 - Jaro 2026 - Praha - Lucerna Music Bar, Praha
END:VEVENT
END:VCALENDAR