BEGIN:VCALENDAR
VERSION:2.0
CALSCALE:GREGORIAN
METHOD:PUBLISH
PRODID:-//CSMusic.cz//Akce//EN
BEGIN:VEVENT
UID:akce_69e802a82c5eb0.53872936
DTSTAMP:20260422T010512
DTSTART:20140412T000000
DTEND:20140412T020000
SUMMARY:Profile Concert
LOCATION:SD Nivy, Súťažná 18, Bratislava
DESCRIPTION:Profile Concert - SD Nivy, Súťažná 18, Bratislava
END:VEVENT
END:VCALENDAR