BEGIN:VCALENDAR
VERSION:2.0
CALSCALE:GREGORIAN
METHOD:PUBLISH
PRODID:-//CSMusic.cz//Akce//EN
BEGIN:VEVENT
UID:akce_69e82fd6bef979.78290607
DTSTAMP:20260422T041758
DTSTART:20260423T000000
DTEND:20260423T000000
SUMMARY:NOISY POTS + DJ FLOEX + TANITA + AIKO - Praha
LOCATION:Café V lese, Praha
DESCRIPTION:NOISY POTS + DJ FLOEX + TANITA + AIKO - Praha - Café V lese, Praha
END:VEVENT
END:VCALENDAR