BEGIN:VCALENDAR
VERSION:2.0
CALSCALE:GREGORIAN
METHOD:PUBLISH
PRODID:-//CSMusic.cz//Akce//EN
BEGIN:VEVENT
UID:akce_69e82fe7c23905.29213978
DTSTAMP:20260422T041815
DTSTART:20260423T000000
DTEND:20260423T000000
SUMMARY:Marta Jandová - Ostrava
LOCATION:Barrák Music Club, Ostrava
DESCRIPTION:Marta Jandová - Ostrava - Barrák Music Club, Ostrava
END:VEVENT
END:VCALENDAR