BEGIN:VCALENDAR
VERSION:2.0
CALSCALE:GREGORIAN
METHOD:PUBLISH
PRODID:-//CSMusic.cz//Akce//EN
BEGIN:VEVENT
UID:akce_69e8c20b7a45f1.10070880
DTSTAMP:20260422T144147
DTSTART:20190912T000000
DTEND:20190912T000000
SUMMARY:Stromboli - Brno
LOCATION:Hrad Špilberk - Hlavní Nádvoří, Brno
DESCRIPTION:Stromboli - Brno - Hrad Špilberk - Hlavní Nádvoří, Brno
END:VEVENT
END:VCALENDAR