BEGIN:VCALENDAR
VERSION:2.0
CALSCALE:GREGORIAN
METHOD:PUBLISH
PRODID:-//CSMusic.cz//Akce//EN
BEGIN:VEVENT
UID:akce_69e8c616c9eff1.88116120
DTSTAMP:20260422T145902
DTSTART:20230617T000000
DTEND:20230617T000000
SUMMARY:Marek Ztracený - Praha
LOCATION:Fortuna Arena, Praha
DESCRIPTION:Marek Ztracený - Praha - Fortuna Arena, Praha
END:VEVENT
END:VCALENDAR