BEGIN:VCALENDAR
VERSION:2.0
CALSCALE:GREGORIAN
METHOD:PUBLISH
PRODID:-//CSMusic.cz//Akce//EN
BEGIN:VEVENT
UID:akce_69e8ec5be7e616.70813107
DTSTAMP:20260422T174219
DTSTART:20191019T000000
DTEND:20191019T000000
SUMMARY:Mig 21 - Hyjé! Tour - Ostrava
LOCATION:Rock&Roll Garage, Ostrava
DESCRIPTION:Mig 21 - Hyjé! Tour - Ostrava - Rock&Roll Garage, Ostrava
END:VEVENT
END:VCALENDAR