BEGIN:VCALENDAR
VERSION:2.0
CALSCALE:GREGORIAN
METHOD:PUBLISH
PRODID:-//CSMusic.cz//Akce//EN
BEGIN:VEVENT
UID:akce_69e98150b4f457.99347929
DTSTAMP:20260423T041752
DTSTART:20240430T000000
DTEND:20240430T000000
SUMMARY:Harlej - Zatím je to dobrý - Chotětov
LOCATION:, Chotětov
DESCRIPTION:Harlej - Zatím je to dobrý - Chotětov - , Chotětov
END:VEVENT
END:VCALENDAR