BEGIN:VCALENDAR
VERSION:2.0
CALSCALE:GREGORIAN
METHOD:PUBLISH
PRODID:-//CSMusic.cz//Akce//EN
BEGIN:VEVENT
UID:akce_69e9a89c58d001.13594300
DTSTAMP:20260423T070532
DTSTART:20210822T000000
DTEND:20210822T000000
SUMMARY:IMT Smile - Summer tour 2021 - Brno
LOCATION:Letní stage Sono, Brno
DESCRIPTION:IMT Smile - Summer tour 2021 - Brno - Letní stage Sono, Brno
END:VEVENT
END:VCALENDAR