BEGIN:VCALENDAR
VERSION:2.0
CALSCALE:GREGORIAN
METHOD:PUBLISH
PRODID:-//CSMusic.cz//Akce//EN
BEGIN:VEVENT
UID:akce_69e9d4a062f453.77264779
DTSTAMP:20260423T101320
DTSTART:20190803T000000
DTEND:20190803T000000
SUMMARY:Rockový Královák VII. - Králův Dvůr
LOCATION:Letní scéna na zámku v Králově Dvoře, Králův Dvůr
DESCRIPTION:Rockový Královák VII. - Králův Dvůr - Letní scéna na zámku v Králově Dvoře, Králův Dvůr
END:VEVENT
END:VCALENDAR