BEGIN:VCALENDAR
VERSION:2.0
CALSCALE:GREGORIAN
METHOD:PUBLISH
PRODID:-//CSMusic.cz//Akce//EN
BEGIN:VEVENT
UID:akce_69e9eb7dc6f549.56200938
DTSTAMP:20260423T115053
DTSTART:20190727T000000
DTEND:20190727T000000
SUMMARY:Rock u rybníka 2019 - Proboštov
LOCATION:Proboštovský Rybník, Proboštov
DESCRIPTION:Rock u rybníka 2019 - Proboštov - Proboštovský Rybník, Proboštov
END:VEVENT
END:VCALENDAR