BEGIN:VCALENDAR
VERSION:2.0
CALSCALE:GREGORIAN
METHOD:PUBLISH
PRODID:-//CSMusic.cz//Akce//EN
BEGIN:VEVENT
UID:akce_69ea0184452359.28149544
DTSTAMP:20260423T132452
DTSTART:20260423T000000
DTEND:20260423T000000
SUMMARY:Dorota Nvotová - Brno
LOCATION:Metro Music Bar, Brno
DESCRIPTION:Dorota Nvotová - Brno - Metro Music Bar, Brno
END:VEVENT
END:VCALENDAR