BEGIN:VCALENDAR
VERSION:2.0
CALSCALE:GREGORIAN
METHOD:PUBLISH
PRODID:-//CSMusic.cz//Akce//EN
BEGIN:VEVENT
UID:akce_69ea3d5d2946a1.75660502
DTSTAMP:20260423T174013
DTSTART:20200612T000000
DTEND:20200614T000000
SUMMARY:Votvírák 2020 - Milovice (okres Nymburk)
LOCATION:Letiště Boží Dar, Milovice (okres Nymburk)
DESCRIPTION:Votvírák 2020 - Milovice (okres Nymburk) - Letiště Boží Dar, Milovice (okres Nymburk)
END:VEVENT
END:VCALENDAR