BEGIN:VCALENDAR
VERSION:2.0
CALSCALE:GREGORIAN
METHOD:PUBLISH
PRODID:-//CSMusic.cz//Akce//EN
BEGIN:VEVENT
UID:akce_69eac3d79806e7.27275898
DTSTAMP:20260424T031359
DTSTART:20260424T000000
DTEND:20260425T000000
SUMMARY:Číro Fest 2026 - Praha
LOCATION:Modrá vopice, Praha
DESCRIPTION:Číro Fest 2026 - Praha - Modrá vopice, Praha
END:VEVENT
END:VCALENDAR