BEGIN:VCALENDAR
VERSION:2.0
CALSCALE:GREGORIAN
METHOD:PUBLISH
PRODID:-//CSMusic.cz//Akce//EN
BEGIN:VEVENT
UID:akce_69eac3ec341f19.41634385
DTSTAMP:20260424T031420
DTSTART:20260424T000000
DTEND:20260424T000000
SUMMARY:Brutální jahoda - České Budějovice
LOCATION:MC Fabrika, České Budějovice
DESCRIPTION:Brutální jahoda - České Budějovice - MC Fabrika, České Budějovice
END:VEVENT
END:VCALENDAR