BEGIN:VCALENDAR
VERSION:2.0
CALSCALE:GREGORIAN
METHOD:PUBLISH
PRODID:-//CSMusic.cz//Akce//EN
BEGIN:VEVENT
UID:akce_69eac439b9b742.72941743
DTSTAMP:20260424T031537
DTSTART:20260424T000000
DTEND:20260424T000000
SUMMARY:Fast Food Orchestra - Vidíme to růžově tour - Pardubice
LOCATION:Žlutý pes, Pardubice
DESCRIPTION:Fast Food Orchestra - Vidíme to růžově tour - Pardubice - Žlutý pes, Pardubice
END:VEVENT
END:VCALENDAR