BEGIN:VCALENDAR
VERSION:2.0
CALSCALE:GREGORIAN
METHOD:PUBLISH
PRODID:-//CSMusic.cz//Akce//EN
BEGIN:VEVENT
UID:akce_69eac4efdc69d6.86410590
DTSTAMP:20260424T031839
DTSTART:20260424T000000
DTEND:20260424T000000
SUMMARY:Malina Brothers - Písek
LOCATION:Divadlo, Písek
DESCRIPTION:Malina Brothers - Písek - Divadlo, Písek
END:VEVENT
END:VCALENDAR