BEGIN:VCALENDAR
VERSION:2.0
CALSCALE:GREGORIAN
METHOD:PUBLISH
PRODID:-//CSMusic.cz//Akce//EN
BEGIN:VEVENT
UID:akce_69eac4fa1f9b04.01722038
DTSTAMP:20260424T031850
DTSTART:20260424T000000
DTEND:20260424T000000
SUMMARY:Annet X - Brno
LOCATION:Fléda, Brno
DESCRIPTION:Annet X - Brno - Fléda, Brno
END:VEVENT
END:VCALENDAR