BEGIN:VCALENDAR
VERSION:2.0
CALSCALE:GREGORIAN
METHOD:PUBLISH
PRODID:-//CSMusic.cz//Akce//EN
BEGIN:VEVENT
UID:akce_69eb243a196ad4.23946422
DTSTAMP:20260424T100514
DTSTART:20250326T000000
DTEND:20250326T000000
SUMMARY:Support Lesbiens - Praha
LOCATION:Roxy, Praha
DESCRIPTION:Support Lesbiens - Praha - Roxy, Praha
END:VEVENT
END:VCALENDAR