BEGIN:VCALENDAR
VERSION:2.0
CALSCALE:GREGORIAN
METHOD:PUBLISH
PRODID:-//CSMusic.cz//Akce//EN
BEGIN:VEVENT
UID:akce_69eb29e93c1304.66199342
DTSTAMP:20260424T102929
DTSTART:20210128T000000
DTEND:20210128T000000
SUMMARY:INE KAFE - 25 ROCKOV TOUR 2021 - Ostrava
LOCATION:Brickhouse DOV, Ostrava
DESCRIPTION:INE KAFE - 25 ROCKOV TOUR 2021 - Ostrava - Brickhouse DOV, Ostrava
END:VEVENT
END:VCALENDAR