BEGIN:VCALENDAR
VERSION:2.0
CALSCALE:GREGORIAN
METHOD:PUBLISH
PRODID:-//CSMusic.cz//Akce//EN
BEGIN:VEVENT
UID:akce_69eb657dee7682.63187597
DTSTAMP:20260424T144341
DTSTART:20140410T000000
DTEND:20140410T020000
SUMMARY:Bratislava
LOCATION:KC Dunaj, Bratislava
DESCRIPTION:Bratislava - KC Dunaj, Bratislava
END:VEVENT
END:VCALENDAR