BEGIN:VCALENDAR
VERSION:2.0
CALSCALE:GREGORIAN
METHOD:PUBLISH
PRODID:-//CSMusic.cz//Akce//EN
BEGIN:VEVENT
UID:akce_69ec12ba26b248.31461487
DTSTAMP:20260425T030250
DTSTART:20260425T000000
DTEND:20260425T000000
SUMMARY:Zrní - Havířov
LOCATION:Jazz Club, Havířov
DESCRIPTION:Zrní - Havířov - Jazz Club, Havířov
END:VEVENT
END:VCALENDAR