BEGIN:VCALENDAR
VERSION:2.0
CALSCALE:GREGORIAN
METHOD:PUBLISH
PRODID:-//CSMusic.cz//Akce//EN
BEGIN:VEVENT
UID:akce_69ec133cda04e8.66764392
DTSTAMP:20260425T030500
DTSTART:20260425T000000
DTEND:20260425T000000
SUMMARY:Reflections of Karma + Imodium + Post-it - KarmaFest 2026 - České Budějovice
LOCATION:MC Fabrika, České Budějovice
DESCRIPTION:Reflections of Karma + Imodium + Post-it - KarmaFest 2026 - České Budějovice - MC Fabrika, České Budějovice
END:VEVENT
END:VCALENDAR