BEGIN:VCALENDAR
VERSION:2.0
CALSCALE:GREGORIAN
METHOD:PUBLISH
PRODID:-//CSMusic.cz//Akce//EN
BEGIN:VEVENT
UID:akce_69ecc8b9b34bb2.08588820
DTSTAMP:20260425T155921
DTSTART:20260425T000000
DTEND:20260425T000000
SUMMARY:Harlej + Loco Loco - Tak jdem dál tour - Žďár nad Sázavou
LOCATION:Dolní 183/30, Žďár nad Sázavou
DESCRIPTION:Harlej + Loco Loco - Tak jdem dál tour - Žďár nad Sázavou - Dolní 183/30, Žďár nad Sázavou
END:VEVENT
END:VCALENDAR