BEGIN:VCALENDAR
VERSION:2.0
CALSCALE:GREGORIAN
METHOD:PUBLISH
PRODID:-//CSMusic.cz//Akce//EN
BEGIN:VEVENT
UID:akce_69ecc8c9448ea2.86709359
DTSTAMP:20260425T155937
DTSTART:20260425T000000
DTEND:20260425T000000
SUMMARY:Skyline - Praha
LOCATION:MeetFactory, Praha
DESCRIPTION:Skyline - Praha - MeetFactory, Praha
END:VEVENT
END:VCALENDAR