BEGIN:VCALENDAR
VERSION:2.0
CALSCALE:GREGORIAN
METHOD:PUBLISH
PRODID:-//CSMusic.cz//Akce//EN
BEGIN:VEVENT
UID:akce_69ecc906916b61.57705820
DTSTAMP:20260425T160038
DTSTART:20260425T000000
DTEND:20260425T000000
SUMMARY:Sto zvířat - Písek
LOCATION:Divadlo pod Čarou, Písek
DESCRIPTION:Sto zvířat - Písek - Divadlo pod Čarou, Písek
END:VEVENT
END:VCALENDAR