BEGIN:VCALENDAR
VERSION:2.0
CALSCALE:GREGORIAN
METHOD:PUBLISH
PRODID:-//CSMusic.cz//Akce//EN
BEGIN:VEVENT
UID:akce_69ecc9629197b1.15121341
DTSTAMP:20260425T160210
DTSTART:20260425T000000
DTEND:20260425T000000
SUMMARY:Morčata na útěku + Doga - Turné, ze kterýho se poserete... - Křesetice
LOCATION:Kulturní dům, Křesetice
DESCRIPTION:Morčata na útěku + Doga - Turné, ze kterýho se poserete... - Křesetice - Kulturní dům, Křesetice
END:VEVENT
END:VCALENDAR