BEGIN:VCALENDAR
VERSION:2.0
CALSCALE:GREGORIAN
METHOD:PUBLISH
PRODID:-//CSMusic.cz//Akce//EN
BEGIN:VEVENT
UID:akce_69ecc96d8457d0.88936027
DTSTAMP:20260425T160221
DTSTART:20260425T000000
DTEND:20260425T000000
SUMMARY:Annet X - Olomouc
LOCATION:S-klub, Olomouc
DESCRIPTION:Annet X - Olomouc - S-klub, Olomouc
END:VEVENT
END:VCALENDAR