BEGIN:VCALENDAR
VERSION:2.0
CALSCALE:GREGORIAN
METHOD:PUBLISH
PRODID:-//CSMusic.cz//Akce//EN
BEGIN:VEVENT
UID:akce_69ecca0d9bae34.79213920
DTSTAMP:20260425T160501
DTSTART:20260425T000000
DTEND:20260425T000000
SUMMARY:Lambda + Science Killer - České Budějovice
LOCATION:Žižkárna, České Budějovice
DESCRIPTION:Lambda + Science Killer - České Budějovice - Žižkárna, České Budějovice
END:VEVENT
END:VCALENDAR